BEGIN:VCALENDAR
VERSION:2.0
PRODID:-//hacksw/handcal//NONSGML v1.0//EN
BEGIN:VEVENT
SUMMARY:DRH Mixte - concours par equipe de Rives
UID:bbe0ecef-041c-479d-8f49-f1eab0610abe
DTSTART:20260426T060000Z
DTEND:20260426T150000Z
LOCATION:Localisation Stade Charvet - rue Aristide Berges 38140 RIVES
CATEGORIES:Sportif
STATUS:
DESCRIPTION:<p>Premiere manche des "DRH 2026l" par equipe mixte de 4
 archers,<br>
 En classique tir a 70m sur blason de 122cm, la
 composition de l'equipe
 :</p>
 
 <ul>
 	<li>Sylvain</li>
 	<li>Nael</li>
 	<li>Matteo</li>
 	<li>....</li>
 </ul>
 
 <p>En
 Poulie tir a 50m sur blason de 80cm, la composition de
 l'equipe:</p>
 
 <ul>
 	<li>Matt</li>
 	<li>Alexandre
 Lobut</li>
 	<li>Alexandre Villemagne</li>
 	<li>Bruno
 Arziniere
 	<ul>
 		<li>Coach
 Wilfrid</li>
 	</ul>
 	</li>
 </ul>
 
 <p>Toutes les informations dans le
 mandat de l'organisateur <a
 href="https://admin.sportsregions.fr/media/uploaded/sites/6107/kcupload/files/2060426_DRH%20Rives.pdf"
 target="_blank" rel="noreferrer noopener"><strong>=>
 ICI</strong></a></p>
URL;VALUE=URI:https://acpa-sainte-julie.sportsregions.fr/evenements/2026/04/26/drh-mixte-concours-par-equipe-de-rives-2435473
END:VEVENT
END:VCALENDAR
